BEGIN:VCALENDAR
VERSION:2.0
PRODID:-//Rugby Club West Friesland - ECPv6.15.20//NONSGML v1.0//EN
CALSCALE:GREGORIAN
METHOD:PUBLISH
X-ORIGINAL-URL:https://rcwestfriesland.nl
X-WR-CALDESC:Evenementen voor Rugby Club West Friesland
REFRESH-INTERVAL;VALUE=DURATION:PT1H
X-Robots-Tag:noindex
X-PUBLISHED-TTL:PT1H
BEGIN:VTIMEZONE
TZID:UTC
BEGIN:STANDARD
TZOFFSETFROM:+0000
TZOFFSETTO:+0000
TZNAME:UTC
DTSTART:20220101T000000
END:STANDARD
END:VTIMEZONE
BEGIN:VEVENT
DTSTART;TZID=UTC:20231007T110000
DTEND;TZID=UTC:20231007T130000
DTSTAMP:20260424T082936
CREATED:20230924T165942Z
LAST-MODIFIED:20230924T165942Z
UID:2860-1696676400-1696683600@rcwestfriesland.nl
SUMMARY:(UIT) CUBS - CL Hawks/Houtsche CU 1 -CL WaZa CU 1
DESCRIPTION:Kick off: 11:00 \nLocatie: RC Haarlemmermeer Hawks \nDe cubs van RC Westfriesland spelen samen met de cubs van Waterland & Zaandijk.
URL:https://rcwestfriesland.nl/event/uit-cubs-cl-hawks-houtsche-cu-1-cl-waza-cu-1/
ATTACH;FMTTYPE=image/png:https://rcwestfriesland.nl/wp-content/uploads/2020/01/Logo_RCWF.png
END:VEVENT
BEGIN:VEVENT
DTSTART;TZID=UTC:20231007T120000
DTEND;TZID=UTC:20231007T133000
DTSTAMP:20260424T082936
CREATED:20230923T182137Z
LAST-MODIFIED:20230924T171416Z
UID:2856-1696680000-1696685400@rcwestfriesland.nl
SUMMARY:(Thuis) Junioren -CL Alkmaar/West-Friesland JU 1 - CL Den Helder/Rush JU 1 (locatie Alkmaar)
DESCRIPTION:Kick off 12:00 \nLocatie: Alkmaar Sportpark Robonsbosweg
URL:https://rcwestfriesland.nl/event/thuis-junioren-cl-alkmaar-west-friesland-ju-1-cl-den-helder-rush-ju-1/
ATTACH;FMTTYPE=image/png:https://rcwestfriesland.nl/wp-content/uploads/2020/01/Logo_RCWF.png
END:VEVENT
BEGIN:VEVENT
DTSTART;TZID=UTC:20231007T130000
DTEND;TZID=UTC:20231007T143000
DTSTAMP:20260424T082936
CREATED:20230924T172501Z
LAST-MODIFIED:20230924T172508Z
UID:2868-1696683600-1696689000@rcwestfriesland.nl
SUMMARY:(UIT) Colts - RC Zwolle CO 1	CL Kop van Noord-Holland CO 1
DESCRIPTION:Kick off 13:15 \nLocatie:  Sportpark de Marslanden
URL:https://rcwestfriesland.nl/event/uit-colts-rc-zwolle-co-1cl-kop-van-noord-holland-co-1/
ATTACH;FMTTYPE=image/png:https://rcwestfriesland.nl/wp-content/uploads/2020/01/Logo_RCWF.png
END:VEVENT
END:VCALENDAR