BEGIN:VCALENDAR
VERSION:2.0
PRODID:-//Rugby Club West Friesland - ECPv6.15.20//NONSGML v1.0//EN
CALSCALE:GREGORIAN
METHOD:PUBLISH
X-WR-CALNAME:Rugby Club West Friesland
X-ORIGINAL-URL:https://rcwestfriesland.nl
X-WR-CALDESC:Evenementen voor Rugby Club West Friesland
REFRESH-INTERVAL;VALUE=DURATION:PT1H
X-Robots-Tag:noindex
X-PUBLISHED-TTL:PT1H
BEGIN:VTIMEZONE
TZID:UTC
BEGIN:STANDARD
TZOFFSETFROM:+0000
TZOFFSETTO:+0000
TZNAME:UTC
DTSTART:20220101T000000
END:STANDARD
END:VTIMEZONE
BEGIN:VEVENT
DTSTART;TZID=UTC:20231104T110000
DTEND;TZID=UTC:20231104T130000
DTSTAMP:20260424T082751
CREATED:20230924T170503Z
LAST-MODIFIED:20230924T170503Z
UID:2864-1699095600-1699102800@rcwestfriesland.nl
SUMMARY:(Thuis) Cubs - CL WaZa CU 1 - RFC Haarlem CU 2 (locatie Purmerend)
DESCRIPTION:Kick off 11:00 \nLocatie: RC Waterland Purmerend \nDe cubs van RC Westfriesland spelen samen met de cubs van Waterland & Zaandijk.
URL:https://rcwestfriesland.nl/event/thuis-cubs-cl-waza-cu-1-rfc-haarlem-cu-2-locatie-purmerend/
ATTACH;FMTTYPE=image/png:https://rcwestfriesland.nl/wp-content/uploads/2020/01/Logo_RCWF.png
END:VEVENT
BEGIN:VEVENT
DTSTART;TZID=UTC:20231104T130000
DTEND;TZID=UTC:20231104T143000
DTSTAMP:20260424T082751
CREATED:20230924T172645Z
LAST-MODIFIED:20230924T172645Z
UID:2870-1699102800-1699108200@rcwestfriesland.nl
SUMMARY:(THUIS) COLTS - CL Kop van Noord-Holland CO 1 - CL Bassets/Hawks CO 1
DESCRIPTION:Kick off 13:00 \nLocatie: Blauwe Berg.
URL:https://rcwestfriesland.nl/event/thuis-colts-cl-kop-van-noord-holland-co-1-cl-bassets-hawks-co-1/
LOCATION:Sportpark de Kromme Elleboog\, Hondsdraf 47\, Hoorn/Zwaag\, Noord-Holland\, 1689 NN\, Netherlands
ATTACH;FMTTYPE=image/png:https://rcwestfriesland.nl/wp-content/uploads/2020/01/Logo_RCWF.png
END:VEVENT
END:VCALENDAR