BEGIN:VCALENDAR
VERSION:2.0
PRODID:-//Rugby Club West Friesland - ECPv6.15.20//NONSGML v1.0//EN
CALSCALE:GREGORIAN
METHOD:PUBLISH
X-ORIGINAL-URL:https://rcwestfriesland.nl
X-WR-CALDESC:Evenementen voor Rugby Club West Friesland
REFRESH-INTERVAL;VALUE=DURATION:PT1H
X-Robots-Tag:noindex
X-PUBLISHED-TTL:PT1H
BEGIN:VTIMEZONE
TZID:UTC
BEGIN:STANDARD
TZOFFSETFROM:+0000
TZOFFSETTO:+0000
TZNAME:UTC
DTSTART:20220101T000000
END:STANDARD
END:VTIMEZONE
BEGIN:VEVENT
DTSTART;TZID=UTC:20231126T130000
DTEND;TZID=UTC:20231126T143000
DTSTAMP:20260424T100058
CREATED:20230924T175603Z
LAST-MODIFIED:20230924T175603Z
UID:2882-1701003600-1701009000@rcwestfriesland.nl
SUMMARY:(THUIS) Dames - CL De Foeste Moiden D1 - Lady Bears D1 (Locatie Alkmaar)
DESCRIPTION:Kick off: 13:00 \nLocatie: Sportpark Robonsbosweg
URL:https://rcwestfriesland.nl/event/thuis-dames-cl-de-foeste-moiden-d1-lady-bears-d1-locatie-alkmaar/
LOCATION:Rugbyclub Alkmaar\, Robonsbosweg 6\,\, Alkmaar\, 1816 MK\, Nederland
ATTACH;FMTTYPE=image/png:https://rcwestfriesland.nl/wp-content/uploads/2020/01/Logo_RCWF.png
END:VEVENT
BEGIN:VEVENT
DTSTART;TZID=UTC:20231126T150000
DTEND;TZID=UTC:20231126T163000
DTSTAMP:20260424T100058
CREATED:20230924T181944Z
LAST-MODIFIED:20230924T182025Z
UID:2894-1701010800-1701016200@rcwestfriesland.nl
SUMMARY:(UIT) Heren - Amstelveense RC 2 - RC West-Friesland 1
DESCRIPTION:Kick off: 15:00 \nLocatie: Sportpark Sportlaan West Amstelveen \n 
URL:https://rcwestfriesland.nl/event/uit-heren-amstelveense-rc-2-rc-west-friesland-1/
ATTACH;FMTTYPE=image/png:https://rcwestfriesland.nl/wp-content/uploads/2020/01/Logo_RCWF.png
END:VEVENT
END:VCALENDAR