BEGIN:VCALENDAR
VERSION:2.0
PRODID:-//Rugby Club West Friesland - ECPv6.15.20//NONSGML v1.0//EN
CALSCALE:GREGORIAN
METHOD:PUBLISH
X-ORIGINAL-URL:https://rcwestfriesland.nl
X-WR-CALDESC:Evenementen voor Rugby Club West Friesland
REFRESH-INTERVAL;VALUE=DURATION:PT1H
X-Robots-Tag:noindex
X-PUBLISHED-TTL:PT1H
BEGIN:VTIMEZONE
TZID:UTC
BEGIN:STANDARD
TZOFFSETFROM:+0000
TZOFFSETTO:+0000
TZNAME:UTC
DTSTART:20230101T000000
END:STANDARD
END:VTIMEZONE
BEGIN:VEVENT
DTSTART;TZID=UTC:20240120T130000
DTEND;TZID=UTC:20240120T150000
DTSTAMP:20260424T133448
CREATED:20231208T192905Z
LAST-MODIFIED:20231208T192905Z
UID:2966-1705755600-1705762800@rcwestfriesland.nl
SUMMARY:(Thuis Alkmaar) Colts - CL Kop van Noord-Holland CO 1-RC Eemland CO 2
DESCRIPTION:Kick off 13:00 \nLocatie: Sportpark Robonsbosweg Alkmaar
URL:https://rcwestfriesland.nl/event/thuis-alkmaar-colts-cl-kop-van-noord-holland-co-1-rc-eemland-co-2/
LOCATION:Rugbyclub Alkmaar\, Robonsbosweg 6\,\, Alkmaar\, 1816 MK\, Nederland
ATTACH;FMTTYPE=image/png:https://rcwestfriesland.nl/wp-content/uploads/2020/01/Logo_RCWF.png
END:VEVENT
END:VCALENDAR