BEGIN:VCALENDAR
VERSION:2.0
PRODID:-//Rugby Club West Friesland - ECPv6.15.20//NONSGML v1.0//EN
CALSCALE:GREGORIAN
METHOD:PUBLISH
X-WR-CALNAME:Rugby Club West Friesland
X-ORIGINAL-URL:https://rcwestfriesland.nl
X-WR-CALDESC:Evenementen voor Rugby Club West Friesland
REFRESH-INTERVAL;VALUE=DURATION:PT1H
X-Robots-Tag:noindex
X-PUBLISHED-TTL:PT1H
BEGIN:VTIMEZONE
TZID:UTC
BEGIN:STANDARD
TZOFFSETFROM:+0000
TZOFFSETTO:+0000
TZNAME:UTC
DTSTART:20230101T000000
END:STANDARD
END:VTIMEZONE
BEGIN:VEVENT
DTSTART;TZID=UTC:20240127T130000
DTEND;TZID=UTC:20240127T170000
DTSTAMP:20260424T133414
CREATED:20231208T193039Z
LAST-MODIFIED:20231208T193039Z
UID:2968-1706360400-1706374800@rcwestfriesland.nl
SUMMARY:(UIT) Colts - CL Pickwick Players/Rams CO 1 - CL Kop van Noord-Holland CO 1
DESCRIPTION:Kick off: 13:00 \nLocatie sportpark keizerslanden
URL:https://rcwestfriesland.nl/event/uit-colts-cl-pickwick-players-rams-co-1-cl-kop-van-noord-holland-co-1/
ATTACH;FMTTYPE=image/png:https://rcwestfriesland.nl/wp-content/uploads/2020/01/Logo_RCWF.png
END:VEVENT
END:VCALENDAR