BEGIN:VCALENDAR
VERSION:2.0
PRODID:-//Rugby Club West Friesland - ECPv6.15.20//NONSGML v1.0//EN
CALSCALE:GREGORIAN
METHOD:PUBLISH
X-WR-CALNAME:Rugby Club West Friesland
X-ORIGINAL-URL:https://rcwestfriesland.nl
X-WR-CALDESC:Evenementen voor Rugby Club West Friesland
REFRESH-INTERVAL;VALUE=DURATION:PT1H
X-Robots-Tag:noindex
X-PUBLISHED-TTL:PT1H
BEGIN:VTIMEZONE
TZID:UTC
BEGIN:STANDARD
TZOFFSETFROM:+0000
TZOFFSETTO:+0000
TZNAME:UTC
DTSTART:20230101T000000
END:STANDARD
END:VTIMEZONE
BEGIN:VEVENT
DTSTART;TZID=UTC:20240216T200000
DTEND;TZID=UTC:20240216T233000
DTSTAMP:20260424T151802
CREATED:20240212T210223Z
LAST-MODIFIED:20240212T210223Z
UID:2987-1708113600-1708126200@rcwestfriesland.nl
SUMMARY:RCWF Dart toernooi
DESCRIPTION:RCWF Darttoernooi is voor jong en oud! \nDurf jij het op te nemen tegen jouw teamgenoten? \nMeld je aan om mee te doen.
URL:https://rcwestfriesland.nl/event/rcwf-dart-toernooi/
LOCATION:Sportpark de Kromme Elleboog\, Hondsdraf 47\, Hoorn/Zwaag\, Noord-Holland\, 1689 NN\, Netherlands
ATTACH;FMTTYPE=image/jpeg:https://rcwestfriesland.nl/wp-content/uploads/2023/08/RCWF-Contributie.jpg
END:VEVENT
END:VCALENDAR