BEGIN:VCALENDAR
VERSION:2.0
PRODID:-//Rugby Club West Friesland - ECPv6.15.20//NONSGML v1.0//EN
CALSCALE:GREGORIAN
METHOD:PUBLISH
X-ORIGINAL-URL:https://rcwestfriesland.nl
X-WR-CALDESC:Evenementen voor Rugby Club West Friesland
REFRESH-INTERVAL;VALUE=DURATION:PT1H
X-Robots-Tag:noindex
X-PUBLISHED-TTL:PT1H
BEGIN:VTIMEZONE
TZID:UTC
BEGIN:STANDARD
TZOFFSETFROM:+0000
TZOFFSETTO:+0000
TZNAME:UTC
DTSTART:20230101T000000
END:STANDARD
END:VTIMEZONE
BEGIN:VEVENT
DTSTART;TZID=UTC:20240317T130000
DTEND;TZID=UTC:20240317T150000
DTSTAMP:20260424T170310
CREATED:20231208T190511Z
LAST-MODIFIED:20231208T190511Z
UID:2952-1710680400-1710687600@rcwestfriesland.nl
SUMMARY:(UIT) Dames - CL Obelix/Scrumboks D1-CL De Foeste Moiden D1
DESCRIPTION:Kick off: 13:00 \nLocatie:Universitair sportcentrum \n 
URL:https://rcwestfriesland.nl/event/uit-dames-cl-obelix-scrumboks-d1-cl-de-foeste-moiden-d1-2/
ATTACH;FMTTYPE=image/png:https://rcwestfriesland.nl/wp-content/uploads/2020/01/Logo_RCWF.png
END:VEVENT
BEGIN:VEVENT
DTSTART;TZID=UTC:20240317T150000
DTEND;TZID=UTC:20240317T170000
DTSTAMP:20260424T170310
CREATED:20231208T180727Z
LAST-MODIFIED:20231208T180727Z
UID:2931-1710687600-1710694800@rcwestfriesland.nl
SUMMARY:(UIT) Heren - CL Mokum Rugby 1 - RC West-Friesland 1
DESCRIPTION:Kick off; 15:00 \nLocatie RC Amsterdam
URL:https://rcwestfriesland.nl/event/uit-heren-cl-mokum-rugby-1-rc-west-friesland-1/
ATTACH;FMTTYPE=image/png:https://rcwestfriesland.nl/wp-content/uploads/2020/01/Logo_RCWF.png
END:VEVENT
END:VCALENDAR