BEGIN:VCALENDAR
VERSION:2.0
PRODID:-//Rugby Club West Friesland - ECPv6.15.20//NONSGML v1.0//EN
CALSCALE:GREGORIAN
METHOD:PUBLISH
X-ORIGINAL-URL:https://rcwestfriesland.nl
X-WR-CALDESC:Evenementen voor Rugby Club West Friesland
REFRESH-INTERVAL;VALUE=DURATION:PT1H
X-Robots-Tag:noindex
X-PUBLISHED-TTL:PT1H
BEGIN:VTIMEZONE
TZID:UTC
BEGIN:STANDARD
TZOFFSETFROM:+0000
TZOFFSETTO:+0000
TZNAME:UTC
DTSTART:20230101T000000
END:STANDARD
END:VTIMEZONE
BEGIN:VEVENT
DTSTART;TZID=UTC:20240509T080000
DTEND;TZID=UTC:20240509T170000
DTSTAMP:20260424T215127
CREATED:20240509T160028Z
LAST-MODIFIED:20240509T160028Z
UID:3038-1715241600-1715274000@rcwestfriesland.nl
SUMMARY:Zondag 12 Mei - RC Westfriesland - URC 3
DESCRIPTION:Aanstaande zondag spelen de heren van RCWF hun laatste wedstrijd van het seizoen in Hoorn. Tevens ook een zeer belangrijke wedstrijd! Lukt het de heren om hun plek in de 3e klasse veilig te stellen? ???????? Kick off 13:00
URL:https://rcwestfriesland.nl/event/zondag-12-mei-rc-westfriesland-urc-3/
LOCATION:Sportpark de Kromme Elleboog\, Hondsdraf 47\, Hoorn/Zwaag\, Noord-Holland\, 1689 NN\, Netherlands
ATTACH;FMTTYPE=image/jpeg:https://rcwestfriesland.nl/wp-content/uploads/2024/05/RC-Westfriesland-URC-3.jpg
END:VEVENT
END:VCALENDAR