BEGIN:VCALENDAR
VERSION:2.0
PRODID:-//Rugby Club West Friesland - ECPv6.15.20//NONSGML v1.0//EN
CALSCALE:GREGORIAN
METHOD:PUBLISH
X-ORIGINAL-URL:https://rcwestfriesland.nl
X-WR-CALDESC:Evenementen voor Rugby Club West Friesland
REFRESH-INTERVAL;VALUE=DURATION:PT1H
X-Robots-Tag:noindex
X-PUBLISHED-TTL:PT1H
BEGIN:VTIMEZONE
TZID:UTC
BEGIN:STANDARD
TZOFFSETFROM:+0000
TZOFFSETTO:+0000
TZNAME:UTC
DTSTART:20240101T000000
END:STANDARD
END:VTIMEZONE
BEGIN:VTIMEZONE
TZID:Europe/Amsterdam
BEGIN:DAYLIGHT
TZOFFSETFROM:+0100
TZOFFSETTO:+0200
TZNAME:CEST
DTSTART:20240331T010000
END:DAYLIGHT
BEGIN:STANDARD
TZOFFSETFROM:+0200
TZOFFSETTO:+0100
TZNAME:CET
DTSTART:20241027T010000
END:STANDARD
BEGIN:DAYLIGHT
TZOFFSETFROM:+0100
TZOFFSETTO:+0200
TZNAME:CEST
DTSTART:20250330T010000
END:DAYLIGHT
BEGIN:STANDARD
TZOFFSETFROM:+0200
TZOFFSETTO:+0100
TZNAME:CET
DTSTART:20251026T010000
END:STANDARD
BEGIN:DAYLIGHT
TZOFFSETFROM:+0100
TZOFFSETTO:+0200
TZNAME:CEST
DTSTART:20260329T010000
END:DAYLIGHT
BEGIN:STANDARD
TZOFFSETFROM:+0200
TZOFFSETTO:+0100
TZNAME:CET
DTSTART:20261025T010000
END:STANDARD
END:VTIMEZONE
BEGIN:VEVENT
DTSTART;TZID=UTC:20250209T150000
DTEND;TZID=UTC:20250209T170000
DTSTAMP:20260420T111850
CREATED:20240929T090653Z
LAST-MODIFIED:20240929T090653Z
UID:3249-1739113200-1739120400@rcwestfriesland.nl
SUMMARY:(UIT) Heren - Ascrum AA - RC West-Friesland 1
DESCRIPTION:K.O. 15:00 \nLocatie: Sportpark de Eendracht
URL:https://rcwestfriesland.nl/event/uit-heren-ascrum-aa-rc-west-friesland-1/
CATEGORIES:Heren
END:VEVENT
BEGIN:VEVENT
DTSTART;TZID=Europe/Amsterdam:20250209T150000
DTEND;TZID=Europe/Amsterdam:20250209T170000
DTSTAMP:20260420T111850
CREATED:20250116T111134Z
LAST-MODIFIED:20250116T111134Z
UID:3398-1739113200-1739120400@rcwestfriesland.nl
SUMMARY:(UIT) Oblix/Scrumboks - Foeste Moiden
DESCRIPTION:Kick off: 15:00 \nLocatie: n.t.b.
URL:https://rcwestfriesland.nl/event/uit-oblix-scrumboks-foeste-moiden/
END:VEVENT
END:VCALENDAR