BEGIN:VCALENDAR
VERSION:2.0
PRODID:-//Rugby Club West Friesland - ECPv6.15.20//NONSGML v1.0//EN
CALSCALE:GREGORIAN
METHOD:PUBLISH
X-WR-CALNAME:Rugby Club West Friesland
X-ORIGINAL-URL:https://rcwestfriesland.nl
X-WR-CALDESC:Evenementen voor Rugby Club West Friesland
REFRESH-INTERVAL;VALUE=DURATION:PT1H
X-Robots-Tag:noindex
X-PUBLISHED-TTL:PT1H
BEGIN:VTIMEZONE
TZID:Europe/Amsterdam
BEGIN:DAYLIGHT
TZOFFSETFROM:+0100
TZOFFSETTO:+0200
TZNAME:CEST
DTSTART:20240331T010000
END:DAYLIGHT
BEGIN:STANDARD
TZOFFSETFROM:+0200
TZOFFSETTO:+0100
TZNAME:CET
DTSTART:20241027T010000
END:STANDARD
BEGIN:DAYLIGHT
TZOFFSETFROM:+0100
TZOFFSETTO:+0200
TZNAME:CEST
DTSTART:20250330T010000
END:DAYLIGHT
BEGIN:STANDARD
TZOFFSETFROM:+0200
TZOFFSETTO:+0100
TZNAME:CET
DTSTART:20251026T010000
END:STANDARD
BEGIN:DAYLIGHT
TZOFFSETFROM:+0100
TZOFFSETTO:+0200
TZNAME:CEST
DTSTART:20260329T010000
END:DAYLIGHT
BEGIN:STANDARD
TZOFFSETFROM:+0200
TZOFFSETTO:+0100
TZNAME:CET
DTSTART:20261025T010000
END:STANDARD
END:VTIMEZONE
BEGIN:VEVENT
DTSTART;TZID=Europe/Amsterdam:20251207T130000
DTEND;TZID=Europe/Amsterdam:20251207T170000
DTSTAMP:20260425T203512
CREATED:20251009T003248Z
LAST-MODIFIED:20251009T003248Z
UID:3625-1765112400-1765126800@rcwestfriesland.nl
SUMMARY:Senioren Dames Foeste Moiden uit wedstrijd
DESCRIPTION:Senioren Dames spelen de laatste uitwedstrijd van 2025 in Amstelveen. K.O. 13:00 \n 
URL:https://rcwestfriesland.nl/event/senioren-dames-foeste-moiden-uit-wedstrijd/
CATEGORIES:Dames
END:VEVENT
BEGIN:VEVENT
DTSTART;TZID=Europe/Amsterdam:20251207T150000
DTEND;TZID=Europe/Amsterdam:20251207T170000
DTSTAMP:20260425T203512
CREATED:20251009T003423Z
LAST-MODIFIED:20251009T003423Z
UID:3627-1765119600-1765126800@rcwestfriesland.nl
SUMMARY:Senioren Heren 1 Thuiswedstrijd K.O. 15:00
DESCRIPTION:Senioren Heren 1 spelen een thuiswedstrijd tegen Amstelveen RC 2. K.O. 15:00
URL:https://rcwestfriesland.nl/event/senioren-heren-1-thuiswedstrijd-k-o-1500-2/
LOCATION:Sportpark de Kromme Elleboog\, Hondsdraf 47\, Hoorn/Zwaag\, Noord-Holland\, 1689 NN\, Netherlands
CATEGORIES:Heren
END:VEVENT
END:VCALENDAR