BEGIN:VCALENDAR
VERSION:2.0
PRODID:-//Rugby Club West Friesland - ECPv6.15.20//NONSGML v1.0//EN
CALSCALE:GREGORIAN
METHOD:PUBLISH
X-ORIGINAL-URL:https://rcwestfriesland.nl
X-WR-CALDESC:Evenementen voor Rugby Club West Friesland
REFRESH-INTERVAL;VALUE=DURATION:PT1H
X-Robots-Tag:noindex
X-PUBLISHED-TTL:PT1H
BEGIN:VTIMEZONE
TZID:Europe/Amsterdam
BEGIN:DAYLIGHT
TZOFFSETFROM:+0100
TZOFFSETTO:+0200
TZNAME:CEST
DTSTART:20250330T010000
END:DAYLIGHT
BEGIN:STANDARD
TZOFFSETFROM:+0200
TZOFFSETTO:+0100
TZNAME:CET
DTSTART:20251026T010000
END:STANDARD
BEGIN:DAYLIGHT
TZOFFSETFROM:+0100
TZOFFSETTO:+0200
TZNAME:CEST
DTSTART:20260329T010000
END:DAYLIGHT
BEGIN:STANDARD
TZOFFSETFROM:+0200
TZOFFSETTO:+0100
TZNAME:CET
DTSTART:20261025T010000
END:STANDARD
BEGIN:DAYLIGHT
TZOFFSETFROM:+0100
TZOFFSETTO:+0200
TZNAME:CEST
DTSTART:20270328T010000
END:DAYLIGHT
BEGIN:STANDARD
TZOFFSETFROM:+0200
TZOFFSETTO:+0100
TZNAME:CET
DTSTART:20271031T010000
END:STANDARD
END:VTIMEZONE
BEGIN:VEVENT
DTSTART;TZID=Europe/Amsterdam:20260328T110000
DTEND;TZID=Europe/Amsterdam:20260328T130000
DTSTAMP:20260421T115054
CREATED:20260106T141357Z
LAST-MODIFIED:20260106T141407Z
UID:3732-1774695600-1774702800@rcwestfriesland.nl
SUMMARY:Cubs (THUIS CL): CL Alkmaar/Den Helder/WF CU 1 - RFC Haarlem CU 2
DESCRIPTION:Locatie: Sportpark Robonsbosweg\, Alkmaar
URL:https://rcwestfriesland.nl/event/cubs-thuis-cl-cl-alkmaar-den-helder-wf-cu-1-rfc-haarlem-cu-2/
LOCATION:Rugbyclub Alkmaar\, Robonsbosweg 6\,\, Alkmaar\, 1816 MK\, Nederland
CATEGORIES:Jeugd
END:VEVENT
BEGIN:VEVENT
DTSTART;TZID=Europe/Amsterdam:20260328T140000
DTEND;TZID=Europe/Amsterdam:20260328T160000
DTSTAMP:20260421T115054
CREATED:20260106T153650Z
LAST-MODIFIED:20260117T170211Z
UID:3753-1774706400-1774713600@rcwestfriesland.nl
SUMMARY:Junioren (Alkmaar): CL WF/Alkmaar/DH/Rush JU 1 - RFC Haarlem JU 2
DESCRIPTION:Locatie: Sportpark Robonsbosweg\, Alkmaar
URL:https://rcwestfriesland.nl/event/junioren-thuis-cl-cl-wf-alkmaar-dh-rush-ju-1-rfc-haarlem-ju-2/
CATEGORIES:Jeugd
END:VEVENT
END:VCALENDAR