BEGIN:VCALENDAR
VERSION:2.0
PRODID:-//Rugby Club West Friesland - ECPv6.15.20//NONSGML v1.0//EN
CALSCALE:GREGORIAN
METHOD:PUBLISH
X-WR-CALNAME:Rugby Club West Friesland
X-ORIGINAL-URL:https://rcwestfriesland.nl
X-WR-CALDESC:Evenementen voor Rugby Club West Friesland
REFRESH-INTERVAL;VALUE=DURATION:PT1H
X-Robots-Tag:noindex
X-PUBLISHED-TTL:PT1H
BEGIN:VTIMEZONE
TZID:UTC
BEGIN:STANDARD
TZOFFSETFROM:+0000
TZOFFSETTO:+0000
TZNAME:UTC
DTSTART:20220101T000000
END:STANDARD
END:VTIMEZONE
BEGIN:VEVENT
DTSTART;TZID=UTC:20231209T140000
DTEND;TZID=UTC:20231209T153000
DTSTAMP:20260424T100614
CREATED:20231208T191636Z
LAST-MODIFIED:20231208T191636Z
UID:2961-1702130400-1702135800@rcwestfriesland.nl
SUMMARY:(UIT) Colts - CL Fryslân CO 1-CL Kop van Noord-Holland CO 1
DESCRIPTION:Locatie: Sportpark de Armer Verder \nKick off 14:00
URL:https://rcwestfriesland.nl/event/uit-colts-cl-fryslan-co-1-cl-kop-van-noord-holland-co-1/
ATTACH;FMTTYPE=image/png:https://rcwestfriesland.nl/wp-content/uploads/2020/01/Logo_RCWF.png
END:VEVENT
BEGIN:VEVENT
DTSTART;TZID=UTC:20231210T130000
DTEND;TZID=UTC:20231210T150000
DTSTAMP:20260424T100614
CREATED:20231208T172436Z
LAST-MODIFIED:20231208T172436Z
UID:2917-1702213200-1702220400@rcwestfriesland.nl
SUMMARY:(THUIS) Heren - RC West-Friesland 1 - Ascrum AA
DESCRIPTION:Kick off 13:00
URL:https://rcwestfriesland.nl/event/thuis-heren-rc-west-friesland-1-ascrum-aa/
LOCATION:Sportpark de Kromme Elleboog\, Hondsdraf 47\, Hoorn/Zwaag\, Noord-Holland\, 1689 NN\, Netherlands
ATTACH;FMTTYPE=image/png:https://rcwestfriesland.nl/wp-content/uploads/2020/01/Logo_RCWF.png
END:VEVENT
BEGIN:VEVENT
DTSTART;TZID=UTC:20231216T130000
DTEND;TZID=UTC:20231216T150000
DTSTAMP:20260424T100614
CREATED:20231208T192544Z
LAST-MODIFIED:20231208T192544Z
UID:2964-1702731600-1702738800@rcwestfriesland.nl
SUMMARY:(Thuis Den Helder) Colts - CL Kop van Noord-Holland CO 1-RC Zwolle CO 1
DESCRIPTION:Kick off: 13:00 \nLocatie Sport park de Linie \nDen Helder
URL:https://rcwestfriesland.nl/event/thuis-den-helder-colts-cl-kop-van-noord-holland-co-1-rc-zwolle-co-1/
ATTACH;FMTTYPE=image/png:https://rcwestfriesland.nl/wp-content/uploads/2020/01/Logo_RCWF.png
END:VEVENT
BEGIN:VEVENT
DTSTART;TZID=UTC:20231217T130000
DTEND;TZID=UTC:20231217T143000
DTSTAMP:20260424T100614
CREATED:20231208T181542Z
LAST-MODIFIED:20231208T181542Z
UID:2940-1702818000-1702823400@rcwestfriesland.nl
SUMMARY:(UIT) Dames- CL The Purple Lions D1-CL De Foeste Moiden D1
DESCRIPTION:Locatie: Sportpark Eindhoven Noord \nKick off 13:00
URL:https://rcwestfriesland.nl/event/uit-dames-cl-the-purple-lions-d1-cl-de-foeste-moiden-d1/
ATTACH;FMTTYPE=image/png:https://rcwestfriesland.nl/wp-content/uploads/2020/01/Logo_RCWF.png
END:VEVENT
BEGIN:VEVENT
DTSTART;TZID=UTC:20231217T150000
DTEND;TZID=UTC:20231217T170000
DTSTAMP:20260424T100614
CREATED:20231208T173013Z
LAST-MODIFIED:20231208T173013Z
UID:2919-1702825200-1702832400@rcwestfriesland.nl
SUMMARY:(UIT) Heren - RFC Haarlem 3-RC West-Friesland 1
DESCRIPTION:Kick off 15:00 \nLocatie van der Aart sportpark Haarlem \n 
URL:https://rcwestfriesland.nl/event/uit-heren-rfc-haarlem-3-rc-west-friesland-1/
ATTACH;FMTTYPE=image/png:https://rcwestfriesland.nl/wp-content/uploads/2020/01/Logo_RCWF.png
END:VEVENT
BEGIN:VEVENT
DTSTART;TZID=UTC:20231222T210000
DTEND;TZID=UTC:20231223T000000
DTSTAMP:20260424T100614
CREATED:20231123T205913Z
LAST-MODIFIED:20231123T205913Z
UID:2909-1703278800-1703289600@rcwestfriesland.nl
SUMMARY:RCWF Kerst Gala
DESCRIPTION:Ook dit jaar zal het RCWF-kerst gala weer plaats vinden! Haal je mooiste gala outfit\, maar uit de kast. En maak kans om Queen of King van de avond te worden!
URL:https://rcwestfriesland.nl/event/rcwf-kerst-gala/
LOCATION:Sportpark de Kromme Elleboog\, Hondsdraf 47\, Hoorn/Zwaag\, Noord-Holland\, 1689 NN\, Netherlands
ATTACH;FMTTYPE=image/png:https://rcwestfriesland.nl/wp-content/uploads/2023/11/RCWF-Kerstgala-2023.png
ORGANIZER;CN="Rugby Club":MAILTO:info@rcwestfriesland.nl
END:VEVENT
END:VCALENDAR