BEGIN:VCALENDAR
VERSION:2.0
PRODID:-//Rugby Club West Friesland - ECPv6.15.20//NONSGML v1.0//EN
CALSCALE:GREGORIAN
METHOD:PUBLISH
X-ORIGINAL-URL:https://rcwestfriesland.nl
X-WR-CALDESC:Evenementen voor Rugby Club West Friesland
REFRESH-INTERVAL;VALUE=DURATION:PT1H
X-Robots-Tag:noindex
X-PUBLISHED-TTL:PT1H
BEGIN:VTIMEZONE
TZID:UTC
BEGIN:STANDARD
TZOFFSETFROM:+0000
TZOFFSETTO:+0000
TZNAME:UTC
DTSTART:20230101T000000
END:STANDARD
END:VTIMEZONE
BEGIN:VEVENT
DTSTART;TZID=UTC:20240302T130000
DTEND;TZID=UTC:20240302T150000
DTSTAMP:20260424T151908
CREATED:20231208T193230Z
LAST-MODIFIED:20231208T193230Z
UID:2970-1709384400-1709391600@rcwestfriesland.nl
SUMMARY:(Thuis) Colts - CL Kop van Noord-Holland CO 1- CL Fryslân CO 1
DESCRIPTION:Kick off: 13:00 \nLocatie: Blauwe Berg Hoorn
URL:https://rcwestfriesland.nl/event/thuis-colts-cl-kop-van-noord-holland-co-1-cl-fryslan-co-1/
LOCATION:Sportpark de Kromme Elleboog\, Hondsdraf 47\, Hoorn/Zwaag\, Noord-Holland\, 1689 NN\, Netherlands
ATTACH;FMTTYPE=image/png:https://rcwestfriesland.nl/wp-content/uploads/2020/01/Logo_RCWF.png
END:VEVENT
BEGIN:VEVENT
DTSTART;TZID=UTC:20240309T130000
DTEND;TZID=UTC:20240309T150000
DTSTAMP:20260424T151908
CREATED:20231208T193334Z
LAST-MODIFIED:20231208T193334Z
UID:2972-1709989200-1709996400@rcwestfriesland.nl
SUMMARY:(UIT) Colts - RC Zwolle CO 1-CL Kop van Noord-Holland CO 1
DESCRIPTION:Kick off 13:00 \nLocatie Sportpark de Marslanden
URL:https://rcwestfriesland.nl/event/uit-colts-rc-zwolle-co-1-cl-kop-van-noord-holland-co-1/
ATTACH;FMTTYPE=image/png:https://rcwestfriesland.nl/wp-content/uploads/2020/01/Logo_RCWF.png
END:VEVENT
BEGIN:VEVENT
DTSTART;TZID=UTC:20240310T130000
DTEND;TZID=UTC:20240310T150000
DTSTAMP:20260424T151908
CREATED:20231208T190056Z
LAST-MODIFIED:20231208T190056Z
UID:2950-1710075600-1710082800@rcwestfriesland.nl
SUMMARY:(THUIS Alkmaar) Dames -CL De Foeste Moiden D1-CL The Purple Lions D1
DESCRIPTION:Kick off 13:00 \nLocatie Robonsbosweg
URL:https://rcwestfriesland.nl/event/thuis-alkmaar-dames-cl-de-foeste-moiden-d1-cl-the-purple-lions-d1/
LOCATION:Rugbyclub Alkmaar\, Robonsbosweg 6\,\, Alkmaar\, 1816 MK\, Nederland
ATTACH;FMTTYPE=image/png:https://rcwestfriesland.nl/wp-content/uploads/2020/01/Logo_RCWF.png
END:VEVENT
BEGIN:VEVENT
DTSTART;TZID=UTC:20240310T140000
DTEND;TZID=UTC:20240310T160000
DTSTAMP:20260424T151908
CREATED:20231208T174202Z
LAST-MODIFIED:20231208T174202Z
UID:2929-1710079200-1710086400@rcwestfriesland.nl
SUMMARY:(UIT) Alkmaarse R.U.F.C. 1-RC West-Friesland 1
DESCRIPTION:Locatie Sportpark Robonsweg Alkmaar \nKick off: 14:00 \n 
URL:https://rcwestfriesland.nl/event/uit-alkmaarse-r-u-f-c-1-rc-west-friesland-1/
LOCATION:Rugbyclub Alkmaar\, Robonsbosweg 6\,\, Alkmaar\, 1816 MK\, Nederland
ATTACH;FMTTYPE=image/png:https://rcwestfriesland.nl/wp-content/uploads/2020/01/Logo_RCWF.png
END:VEVENT
BEGIN:VEVENT
DTSTART;TZID=UTC:20240317T130000
DTEND;TZID=UTC:20240317T150000
DTSTAMP:20260424T151908
CREATED:20231208T190511Z
LAST-MODIFIED:20231208T190511Z
UID:2952-1710680400-1710687600@rcwestfriesland.nl
SUMMARY:(UIT) Dames - CL Obelix/Scrumboks D1-CL De Foeste Moiden D1
DESCRIPTION:Kick off: 13:00 \nLocatie:Universitair sportcentrum \n 
URL:https://rcwestfriesland.nl/event/uit-dames-cl-obelix-scrumboks-d1-cl-de-foeste-moiden-d1-2/
ATTACH;FMTTYPE=image/png:https://rcwestfriesland.nl/wp-content/uploads/2020/01/Logo_RCWF.png
END:VEVENT
BEGIN:VEVENT
DTSTART;TZID=UTC:20240317T150000
DTEND;TZID=UTC:20240317T170000
DTSTAMP:20260424T151908
CREATED:20231208T180727Z
LAST-MODIFIED:20231208T180727Z
UID:2931-1710687600-1710694800@rcwestfriesland.nl
SUMMARY:(UIT) Heren - CL Mokum Rugby 1 - RC West-Friesland 1
DESCRIPTION:Kick off; 15:00 \nLocatie RC Amsterdam
URL:https://rcwestfriesland.nl/event/uit-heren-cl-mokum-rugby-1-rc-west-friesland-1/
ATTACH;FMTTYPE=image/png:https://rcwestfriesland.nl/wp-content/uploads/2020/01/Logo_RCWF.png
END:VEVENT
BEGIN:VEVENT
DTSTART;TZID=UTC:20240324T130000
DTEND;TZID=UTC:20240324T150000
DTSTAMP:20260424T151908
CREATED:20231208T180842Z
LAST-MODIFIED:20231208T180842Z
UID:2933-1711285200-1711292400@rcwestfriesland.nl
SUMMARY:(Thuis) RC West-Friesland 1-Amstelveense RC 2
DESCRIPTION:Kick off 13:00
URL:https://rcwestfriesland.nl/event/thuis-rc-west-friesland-1-amstelveense-rc-2/
LOCATION:Sportpark de Kromme Elleboog\, Hondsdraf 47\, Hoorn/Zwaag\, Noord-Holland\, 1689 NN\, Netherlands
ATTACH;FMTTYPE=image/png:https://rcwestfriesland.nl/wp-content/uploads/2020/01/Logo_RCWF.png
END:VEVENT
BEGIN:VEVENT
DTSTART;TZID=UTC:20240324T130000
DTEND;TZID=UTC:20240324T150000
DTSTAMP:20260424T151908
CREATED:20231208T190830Z
LAST-MODIFIED:20231208T190830Z
UID:2955-1711285200-1711292400@rcwestfriesland.nl
SUMMARY:(UIT)Dames - CL Oemoemenoe/RCC D1-CL De Foeste Moiden D1
DESCRIPTION:Kick off 13:00 \nLocatie sportpark de Sprong
URL:https://rcwestfriesland.nl/event/uitdames-cl-oemoemenoe-rcc-d1-cl-de-foeste-moiden-d1/
ATTACH;FMTTYPE=image/png:https://rcwestfriesland.nl/wp-content/uploads/2020/01/Logo_RCWF.png
END:VEVENT
END:VCALENDAR