BEGIN:VCALENDAR
VERSION:2.0
PRODID:-//Rugby Club West Friesland - ECPv6.15.20//NONSGML v1.0//EN
CALSCALE:GREGORIAN
METHOD:PUBLISH
X-WR-CALNAME:Rugby Club West Friesland
X-ORIGINAL-URL:https://rcwestfriesland.nl
X-WR-CALDESC:Evenementen voor Rugby Club West Friesland
REFRESH-INTERVAL;VALUE=DURATION:PT1H
X-Robots-Tag:noindex
X-PUBLISHED-TTL:PT1H
BEGIN:VTIMEZONE
TZID:UTC
BEGIN:STANDARD
TZOFFSETFROM:+0000
TZOFFSETTO:+0000
TZNAME:UTC
DTSTART:20230101T000000
END:STANDARD
END:VTIMEZONE
BEGIN:VEVENT
DTSTART;TZID=UTC:20240414T130000
DTEND;TZID=UTC:20240414T150000
DTSTAMP:20260424T165443
CREATED:20231208T191010Z
LAST-MODIFIED:20231208T191010Z
UID:2957-1713099600-1713106800@rcwestfriesland.nl
SUMMARY:(Thuis Hoorn) CL De Foeste Moiden D1-Lady Bears D1
DESCRIPTION:Kick off: 13:00 \nLocatie Blauwe Berg Hoorn
URL:https://rcwestfriesland.nl/event/thuis-hoorn-cl-de-foeste-moiden-d1-lady-bears-d1/
LOCATION:Sportpark de Kromme Elleboog\, Hondsdraf 47\, Hoorn/Zwaag\, Noord-Holland\, 1689 NN\, Netherlands
ATTACH;FMTTYPE=image/png:https://rcwestfriesland.nl/wp-content/uploads/2020/01/Logo_RCWF.png
END:VEVENT
BEGIN:VEVENT
DTSTART;TZID=UTC:20240414T150000
DTEND;TZID=UTC:20240414T170000
DTSTAMP:20260424T165443
CREATED:20231208T180956Z
LAST-MODIFIED:20231208T180956Z
UID:2935-1713106800-1713114000@rcwestfriesland.nl
SUMMARY:(UIT) Heren - A.S.R.V. Ascrum 2-RC West-Friesland 1
DESCRIPTION:Locatie: Sportpark Eendracht \nKick off 15:00
URL:https://rcwestfriesland.nl/event/uit-heren-a-s-r-v-ascrum-2-rc-west-friesland-1/
ATTACH;FMTTYPE=image/png:https://rcwestfriesland.nl/wp-content/uploads/2020/01/Logo_RCWF.png
END:VEVENT
BEGIN:VEVENT
DTSTART;TZID=UTC:20240421T130000
DTEND;TZID=UTC:20240421T150000
DTSTAMP:20260424T165443
CREATED:20231208T181125Z
LAST-MODIFIED:20231208T181125Z
UID:2937-1713704400-1713711600@rcwestfriesland.nl
SUMMARY:(THUIS) Heren - RC West-Friesland 1-RFC Haarlem 3
DESCRIPTION:Kick off: 13:00 \n 
URL:https://rcwestfriesland.nl/event/thuis-heren-rc-west-friesland-1-rfc-haarlem-3/
LOCATION:Sportpark de Kromme Elleboog\, Hondsdraf 47\, Hoorn/Zwaag\, Noord-Holland\, 1689 NN\, Netherlands
ATTACH;FMTTYPE=image/png:https://rcwestfriesland.nl/wp-content/uploads/2020/01/Logo_RCWF.png
END:VEVENT
BEGIN:VEVENT
DTSTART;TZID=UTC:20240421T130000
DTEND;TZID=UTC:20240421T150000
DTSTAMP:20260424T165443
CREATED:20231208T191119Z
LAST-MODIFIED:20231208T191119Z
UID:2959-1713704400-1713711600@rcwestfriesland.nl
SUMMARY:(UIT) RRC Rotterdames D1-CL De Foeste Moiden D1
DESCRIPTION:Locatie: Sportcomplex Duivensteijn \nKick off 13:00
URL:https://rcwestfriesland.nl/event/uit-rrc-rotterdames-d1-cl-de-foeste-moiden-d1/
ATTACH;FMTTYPE=image/png:https://rcwestfriesland.nl/wp-content/uploads/2020/01/Logo_RCWF.png
END:VEVENT
END:VCALENDAR