BEGIN:VCALENDAR
VERSION:2.0
PRODID:-//Rugby Club West Friesland - ECPv6.15.20//NONSGML v1.0//EN
CALSCALE:GREGORIAN
METHOD:PUBLISH
X-WR-CALNAME:Rugby Club West Friesland
X-ORIGINAL-URL:https://rcwestfriesland.nl
X-WR-CALDESC:Evenementen voor Rugby Club West Friesland
REFRESH-INTERVAL;VALUE=DURATION:PT1H
X-Robots-Tag:noindex
X-PUBLISHED-TTL:PT1H
BEGIN:VTIMEZONE
TZID:Europe/Amsterdam
BEGIN:DAYLIGHT
TZOFFSETFROM:+0100
TZOFFSETTO:+0200
TZNAME:CEST
DTSTART:20240331T010000
END:DAYLIGHT
BEGIN:STANDARD
TZOFFSETFROM:+0200
TZOFFSETTO:+0100
TZNAME:CET
DTSTART:20241027T010000
END:STANDARD
BEGIN:DAYLIGHT
TZOFFSETFROM:+0100
TZOFFSETTO:+0200
TZNAME:CEST
DTSTART:20250330T010000
END:DAYLIGHT
BEGIN:STANDARD
TZOFFSETFROM:+0200
TZOFFSETTO:+0100
TZNAME:CET
DTSTART:20251026T010000
END:STANDARD
BEGIN:DAYLIGHT
TZOFFSETFROM:+0100
TZOFFSETTO:+0200
TZNAME:CEST
DTSTART:20260329T010000
END:DAYLIGHT
BEGIN:STANDARD
TZOFFSETFROM:+0200
TZOFFSETTO:+0100
TZNAME:CET
DTSTART:20261025T010000
END:STANDARD
END:VTIMEZONE
BEGIN:VTIMEZONE
TZID:UTC
BEGIN:STANDARD
TZOFFSETFROM:+0000
TZOFFSETTO:+0000
TZNAME:UTC
DTSTART:20240101T000000
END:STANDARD
END:VTIMEZONE
BEGIN:VEVENT
DTSTART;TZID=Europe/Amsterdam:20250308T120000
DTEND;TZID=Europe/Amsterdam:20250308T150000
DTSTAMP:20260420T110435
CREATED:20250224T195948Z
LAST-MODIFIED:20250224T195948Z
UID:3408-1741435200-1741446000@rcwestfriesland.nl
SUMMARY:Thuis (Hoorn) Wedstrijd Junioren
DESCRIPTION:Junioren spelen hun thuis wedstrijd in Hoorn \nK.O. om 12:00
URL:https://rcwestfriesland.nl/event/thuis-hoorn-wedstrijd-junioren/
LOCATION:Sportpark de Kromme Elleboog\, Hondsdraf 47\, Hoorn/Zwaag\, Noord-Holland\, 1689 NN\, Netherlands
CATEGORIES:Jeugd
END:VEVENT
BEGIN:VEVENT
DTSTART;TZID=Europe/Amsterdam:20250309T130000
DTEND;TZID=Europe/Amsterdam:20250309T170000
DTSTAMP:20260420T110435
CREATED:20250116T111256Z
LAST-MODIFIED:20250116T111256Z
UID:3400-1741525200-1741539600@rcwestfriesland.nl
SUMMARY:(UIT) Oemoemenoe - Foeste Moiden
DESCRIPTION:Kick off: 13:00 \nLocatie: Sportpark de Sprong
URL:https://rcwestfriesland.nl/event/uit-oemoemenoe-foeste-moiden/
LOCATION:Sportpark de Kromme Elleboog\, Hondsdraf 47\, Hoorn/Zwaag\, Noord-Holland\, 1689 NN\, Netherlands
END:VEVENT
BEGIN:VEVENT
DTSTART;TZID=UTC:20250309T150000
DTEND;TZID=UTC:20250309T170000
DTSTAMP:20260420T110435
CREATED:20240929T091003Z
LAST-MODIFIED:20240929T091003Z
UID:3251-1741532400-1741539600@rcwestfriesland.nl
SUMMARY:(Thuis) Heren - RC West-Friesland 1 - Rc 't Gooi 3
DESCRIPTION:  \nKick Off (K.O.): 15:00 \nLocatie: Blauwe Berg 27\, Hoorn
URL:https://rcwestfriesland.nl/event/thuis-heren-rc-west-friesland-1-rc-t-gooi-3/
LOCATION:Sportpark de Kromme Elleboog\, Hondsdraf 47\, Hoorn/Zwaag\, Noord-Holland\, 1689 NN\, Netherlands
CATEGORIES:Heren
END:VEVENT
BEGIN:VEVENT
DTSTART;TZID=Europe/Amsterdam:20250316T130000
DTEND;TZID=Europe/Amsterdam:20250316T150000
DTSTAMP:20260420T110435
CREATED:20250116T111435Z
LAST-MODIFIED:20250116T111435Z
UID:3402-1742130000-1742137200@rcwestfriesland.nl
SUMMARY:(Thuis > Schagen) Foeste Moiden - Brabant Ladies
DESCRIPTION:Kick off: 13:00 \nLocatie: Sportpark Groenoord Schagen \n 
URL:https://rcwestfriesland.nl/event/thuis-schagen-foeste-moiden-brabant-ladies/
LOCATION:schagen\, Wilgenlaan 1-F\, Schagen\, 1741 ZP\, Nederland
END:VEVENT
BEGIN:VEVENT
DTSTART;TZID=UTC:20250316T143000
DTEND;TZID=UTC:20250316T170000
DTSTAMP:20260420T110435
CREATED:20240929T091356Z
LAST-MODIFIED:20240929T091850Z
UID:3254-1742135400-1742144400@rcwestfriesland.nl
SUMMARY:(UIT) Heren - SRC Rush 1 - RC West-Friesland 1
DESCRIPTION:K.O. 14:30 \nLocatie: Sportpark Groenoord Schagen
URL:https://rcwestfriesland.nl/event/uit-heren-src-rush-1-rc-west-friesland-1-2/
LOCATION:schagen\, Wilgenlaan 1-F\, Schagen\, 1741 ZP\, Nederland
CATEGORIES:Heren
END:VEVENT
BEGIN:VEVENT
DTSTART;TZID=UTC:20250323T150000
DTEND;TZID=UTC:20250323T170000
DTSTAMP:20260420T110435
CREATED:20240929T091539Z
LAST-MODIFIED:20240929T091539Z
UID:3256-1742742000-1742749200@rcwestfriesland.nl
SUMMARY:(Thuis) Heren - RC West-Friesland 1 - Haagsche RC Espoirs
DESCRIPTION:  \nKick Off (K.O.): 15:00 \nLocatie: Blauwe Berg 27\, Hoorn
URL:https://rcwestfriesland.nl/event/thuis-heren-rc-west-friesland-1-haagsche-rc-espoirs/
LOCATION:Sportpark de Kromme Elleboog\, Hondsdraf 47\, Hoorn/Zwaag\, Noord-Holland\, 1689 NN\, Netherlands
CATEGORIES:Heren
END:VEVENT
END:VCALENDAR