BEGIN:VCALENDAR
VERSION:2.0
PRODID:-//Rugby Club West Friesland - ECPv6.15.20//NONSGML v1.0//EN
CALSCALE:GREGORIAN
METHOD:PUBLISH
X-ORIGINAL-URL:https://rcwestfriesland.nl
X-WR-CALDESC:Evenementen voor Rugby Club West Friesland
REFRESH-INTERVAL;VALUE=DURATION:PT1H
X-Robots-Tag:noindex
X-PUBLISHED-TTL:PT1H
BEGIN:VTIMEZONE
TZID:UTC
BEGIN:STANDARD
TZOFFSETFROM:+0000
TZOFFSETTO:+0000
TZNAME:UTC
DTSTART:20240101T000000
END:STANDARD
END:VTIMEZONE
BEGIN:VEVENT
DTSTART;TZID=UTC:20250406T150000
DTEND;TZID=UTC:20250406T170000
DTSTAMP:20260420T124938
CREATED:20240929T091721Z
LAST-MODIFIED:20250403T205712Z
UID:3258-1743951600-1743958800@rcwestfriesland.nl
SUMMARY:(Thuis) Heren - RC West-Friesland 1 - RFC Haarlem 3
DESCRIPTION:Kick Off (K.O.): 15:00 \nLocatie: Blauwe Berg 27\, Hoorn
URL:https://rcwestfriesland.nl/event/thuis-heren-rc-west-friesland-1-rfc-haarlem-3-2/
LOCATION:Sportpark de Kromme Elleboog\, Hondsdraf 47\, Hoorn/Zwaag\, Noord-Holland\, 1689 NN\, Netherlands
CATEGORIES:Heren
ATTACH;FMTTYPE=image/png:https://rcwestfriesland.nl/wp-content/uploads/2024/09/Screenshot_20250403-225045.png
END:VEVENT
BEGIN:VEVENT
DTSTART;TZID=UTC:20250413T150000
DTEND;TZID=UTC:20250413T170000
DTSTAMP:20260420T124938
CREATED:20240929T092052Z
LAST-MODIFIED:20240929T092052Z
UID:3260-1744556400-1744563600@rcwestfriesland.nl
SUMMARY:(UIT) Heren - AAC 2 - RC West-Friesland 1
DESCRIPTION:K.O. 15:00 \nLocatie: Sportpark de Eendracht
URL:https://rcwestfriesland.nl/event/uit-heren-aac-2-rc-west-friesland-1-2/
CATEGORIES:Heren
END:VEVENT
END:VCALENDAR