BEGIN:VCALENDAR
VERSION:2.0
PRODID:-//Rugby Club West Friesland - ECPv6.15.20//NONSGML v1.0//EN
CALSCALE:GREGORIAN
METHOD:PUBLISH
X-WR-CALNAME:Rugby Club West Friesland
X-ORIGINAL-URL:https://rcwestfriesland.nl
X-WR-CALDESC:Evenementen voor Rugby Club West Friesland
REFRESH-INTERVAL;VALUE=DURATION:PT1H
X-Robots-Tag:noindex
X-PUBLISHED-TTL:PT1H
BEGIN:VTIMEZONE
TZID:UTC
BEGIN:STANDARD
TZOFFSETFROM:+0000
TZOFFSETTO:+0000
TZNAME:UTC
DTSTART:20240101T000000
END:STANDARD
END:VTIMEZONE
BEGIN:VTIMEZONE
TZID:Europe/Amsterdam
BEGIN:DAYLIGHT
TZOFFSETFROM:+0100
TZOFFSETTO:+0200
TZNAME:CEST
DTSTART:20240331T010000
END:DAYLIGHT
BEGIN:STANDARD
TZOFFSETFROM:+0200
TZOFFSETTO:+0100
TZNAME:CET
DTSTART:20241027T010000
END:STANDARD
BEGIN:DAYLIGHT
TZOFFSETFROM:+0100
TZOFFSETTO:+0200
TZNAME:CEST
DTSTART:20250330T010000
END:DAYLIGHT
BEGIN:STANDARD
TZOFFSETFROM:+0200
TZOFFSETTO:+0100
TZNAME:CET
DTSTART:20251026T010000
END:STANDARD
BEGIN:DAYLIGHT
TZOFFSETFROM:+0100
TZOFFSETTO:+0200
TZNAME:CEST
DTSTART:20260329T010000
END:DAYLIGHT
BEGIN:STANDARD
TZOFFSETFROM:+0200
TZOFFSETTO:+0100
TZNAME:CET
DTSTART:20261025T010000
END:STANDARD
END:VTIMEZONE
BEGIN:VEVENT
DTSTART;TZID=UTC:20250613T080000
DTEND;TZID=UTC:20250615T170000
DTSTAMP:20260420T161314
CREATED:20241016T194424Z
LAST-MODIFIED:20241016T194424Z
UID:3297-1749801600-1750006800@rcwestfriesland.nl
SUMMARY:Ameland Beach Rugby Festival
DESCRIPTION:Het Ameland Beach Rugby Festival is het grootste beach rugby-evenement van Europa\, waar sport en plezier samenkomen. \nWij gaan natuurlijk traditie getrouw al sinds 2008 naar dit Festival. Na de kampioensschap van 2024 gaan we nog sterker heen. \nWil je mee? \nHeren team neem contact op met Nick Thijssing 06-13206866\nDames team neem contact op met Femke Vijzelaar
URL:https://rcwestfriesland.nl/event/ameland-beach-rugby-festival/
CATEGORIES:Dames,Evenementen,Heren
ATTACH;FMTTYPE=image/jpeg:https://rcwestfriesland.nl/wp-content/uploads/2024/10/Ameland-2024.jpg
END:VEVENT
BEGIN:VEVENT
DTSTART;TZID=Europe/Amsterdam:20250621T080000
DTEND;TZID=Europe/Amsterdam:20250621T220000
DTSTAMP:20260420T161314
CREATED:20250417T191522Z
LAST-MODIFIED:20250417T191603Z
UID:3418-1750492800-1750543200@rcwestfriesland.nl
SUMMARY:Seizoensafsluiting en Afscheid Blauwe Berg
DESCRIPTION:Deze dag sluiten we het seizoen af voor iedereen met vele activiteiten\, eten en drinken. \nZoveel mogelijk samen zijn en de laatste momenten van de Blauwe Berg meemaken.
URL:https://rcwestfriesland.nl/event/seizoensafsluiting-en-afscheid-blauwe-berg/
LOCATION:Sportpark de Kromme Elleboog\, Hondsdraf 47\, Hoorn/Zwaag\, Noord-Holland\, 1689 NN\, Netherlands
CATEGORIES:Dames,Evenementen,Heren,Jeugd
ATTACH;FMTTYPE=image/jpeg:https://rcwestfriesland.nl/wp-content/uploads/2025/04/IMG-20250407-WA0003.jpg
ORGANIZER;CN="Rugby Club":MAILTO:info@rcwestfriesland.nl
END:VEVENT
END:VCALENDAR