BEGIN:VCALENDAR
VERSION:2.0
PRODID:-//Rugby Club West Friesland - ECPv6.15.20//NONSGML v1.0//EN
CALSCALE:GREGORIAN
METHOD:PUBLISH
X-WR-CALNAME:Rugby Club West Friesland
X-ORIGINAL-URL:https://rcwestfriesland.nl
X-WR-CALDESC:Evenementen voor Rugby Club West Friesland
REFRESH-INTERVAL;VALUE=DURATION:PT1H
X-Robots-Tag:noindex
X-PUBLISHED-TTL:PT1H
BEGIN:VTIMEZONE
TZID:Europe/Amsterdam
BEGIN:DAYLIGHT
TZOFFSETFROM:+0100
TZOFFSETTO:+0200
TZNAME:CEST
DTSTART:20240331T010000
END:DAYLIGHT
BEGIN:STANDARD
TZOFFSETFROM:+0200
TZOFFSETTO:+0100
TZNAME:CET
DTSTART:20241027T010000
END:STANDARD
BEGIN:DAYLIGHT
TZOFFSETFROM:+0100
TZOFFSETTO:+0200
TZNAME:CEST
DTSTART:20250330T010000
END:DAYLIGHT
BEGIN:STANDARD
TZOFFSETFROM:+0200
TZOFFSETTO:+0100
TZNAME:CET
DTSTART:20251026T010000
END:STANDARD
BEGIN:DAYLIGHT
TZOFFSETFROM:+0100
TZOFFSETTO:+0200
TZNAME:CEST
DTSTART:20260329T010000
END:DAYLIGHT
BEGIN:STANDARD
TZOFFSETFROM:+0200
TZOFFSETTO:+0100
TZNAME:CET
DTSTART:20261025T010000
END:STANDARD
END:VTIMEZONE
BEGIN:VEVENT
DTSTART;TZID=Europe/Amsterdam:20250913T140000
DTEND;TZID=Europe/Amsterdam:20250913T180000
DTSTAMP:20260420T204443
CREATED:20250910T191232Z
LAST-MODIFIED:20250910T191232Z
UID:3563-1757772000-1757786400@rcwestfriesland.nl
SUMMARY:RCWF Heren 1 - Waterland Heren 2
DESCRIPTION:Vrriendschappelijk thuis wedstrijd tegen onze buren Waterland 2 uit Purmerend. \nK.O. 15:00 \nLocatie: Sportpark de Kromme Elleboog. Hondsdraf 47 op het Rugbyveld.\nGedeelde kantine met HSV. RCWF eigen bar. \nTrek een Rugby shirt aan of komt met overhemd en clubstropdas.\nNeem wat te eten en drinken en geniet van de Rugby Cultuur.
URL:https://rcwestfriesland.nl/event/rcwf-heren-1-waterland-heren-2/
LOCATION:Sportpark de Kromme Elleboog\, Hondsdraf 47\, Hoorn/Zwaag\, Noord-Holland\, 1689 NN\, Netherlands
END:VEVENT
BEGIN:VEVENT
DTSTART;TZID=Europe/Amsterdam:20250918T170000
DTEND;TZID=Europe/Amsterdam:20250918T213000
DTSTAMP:20260420T204443
CREATED:20250905T191443Z
LAST-MODIFIED:20250905T191554Z
UID:3542-1758214800-1758231000@rcwestfriesland.nl
SUMMARY:Junior + Colts vriendschappelijke Wedstrijd
DESCRIPTION:Vriendschappelijk wedstrijd Junioren & Colts \nJunioren 18:00 – 19:00\nColts 19:00 – 20:00 \n  \nTegen een club helemaal uit Chili \ndunalastair.cl
URL:https://rcwestfriesland.nl/event/junior-colts-vriendschappelijke-wedstrijd/
LOCATION:Sportpark de Kromme Elleboog\, Hondsdraf 47\, Hoorn/Zwaag\, Noord-Holland\, 1689 NN\, Netherlands
CATEGORIES:Evenementen,Jeugd
ORGANIZER;CN="Rugby Club":MAILTO:info@rcwestfriesland.nl
END:VEVENT
BEGIN:VEVENT
DTSTART;TZID=Europe/Amsterdam:20250928T140000
DTEND;TZID=Europe/Amsterdam:20250928T180000
DTSTAMP:20260420T204443
CREATED:20250921T190237Z
LAST-MODIFIED:20250921T190237Z
UID:3576-1759068000-1759082400@rcwestfriesland.nl
SUMMARY:RCWF Heren 1 - RC Den Helder 1 K.O. 15:00
DESCRIPTION:Heren 1 spelen een thuiswedstrijd vanuit de reguliere competitie tegen Rugby Club Den Helder Heren 1. \n  \nKick Off (K.O.) 15:00\nLocatie: Hondsdraf 47 \nKantine HSV
URL:https://rcwestfriesland.nl/event/rcwf-heren-1-rc-den-helder-1-k-o-1500/
LOCATION:Sportpark de Kromme Elleboog\, Hondsdraf 47\, Hoorn/Zwaag\, Noord-Holland\, 1689 NN\, Netherlands
CATEGORIES:Heren
END:VEVENT
BEGIN:VEVENT
DTSTART;TZID=Europe/Amsterdam:20250928T150000
DTEND;TZID=Europe/Amsterdam:20250928T170000
DTSTAMP:20260420T204443
CREATED:20250924T044632Z
LAST-MODIFIED:20250924T044632Z
UID:3584-1759071600-1759078800@rcwestfriesland.nl
SUMMARY:Dames Hook Ladies/Rotterdam - RCWF/Schagen/Alkmaar
DESCRIPTION:De dames van RCWF – Alkmaar – Den Helder spelen de 1e competitie wedstrijd uit in Hoek van Holland. \nK.O. 15:00\nLocatie: Rugby Club Hoek van Holland
URL:https://rcwestfriesland.nl/event/dames-hook-ladies-rotterdam-rcwf-schagen-alkmaar/
CATEGORIES:Dames
END:VEVENT
END:VCALENDAR